BEGIN:VCALENDAR
VERSION:2.0
PRODID:-//hacksw/handcal//NONSGML v1.0//EN
BEGIN:VEVENT
SUMMARY:2026-05-16 - Entretien espaces verts (copie)
UID:eabc4897-1666-40fc-8b56-f7bd5236d6b7
DTSTART:20260516T070000Z
DTEND:20260516T110000Z
LOCATION:Localisation   
CATEGORIES:Sportif
STATUS:
URL;VALUE=URI:https://www.fcmsectionbillard.com/evenements/2026/05/16/2026-05-16-entretien-espaces-verts-copie-2442994
END:VEVENT
END:VCALENDAR
