BEGIN:VCALENDAR
VERSION:2.0
PRODID:-//hacksw/handcal//NONSGML v1.0//EN
BEGIN:VEVENT
SUMMARY:2026-04-25 - Multimode Div 2 - FCM - HAGUENAU
UID:2bfde313-ff52-44cf-8e12-784e6c83e6e8
DTSTART:20260425T120000Z
DTEND:20260425T133000Z
LOCATION:Localisation   
CATEGORIES:Sportif
STATUS:
URL;VALUE=URI:https://www.fcmsectionbillard.com/evenements/2026/04/25/2026-04-25-multimode-div-2-fcm-haguenau-2442993
END:VEVENT
END:VCALENDAR
