BEGIN:VCALENDAR
VERSION:2.0
PRODID:-//hacksw/handcal//NONSGML v1.0//EN
BEGIN:VEVENT
SUMMARY:2026-04-25 - Entretien espaces verts
UID:b78cf250-97f7-4df7-8b41-c9446864f206
DTSTART:20260425T070000Z
DTEND:20260425T110000Z
LOCATION:Localisation   
CATEGORIES:Sportif
STATUS:
URL;VALUE=URI:https://www.fcmsectionbillard.com/evenements/2026/04/25/2026-04-25-entretien-espaces-verts-2442992
END:VEVENT
END:VCALENDAR
